BEGIN:VCALENDAR
VERSION:2.0
PRODID:-//Vermont Biomedical Research Network - ECPv6.15.14//NONSGML v1.0//EN
CALSCALE:GREGORIAN
METHOD:PUBLISH
X-WR-CALNAME:Vermont Biomedical Research Network
X-ORIGINAL-URL:https://vbrn.org
X-WR-CALDESC:Events for Vermont Biomedical Research Network
REFRESH-INTERVAL;VALUE=DURATION:PT1H
X-Robots-Tag:noindex
X-PUBLISHED-TTL:PT1H
BEGIN:VTIMEZONE
TZID:America/New_York
BEGIN:DAYLIGHT
TZOFFSETFROM:-0500
TZOFFSETTO:-0400
TZNAME:EDT
DTSTART:20230312T070000
END:DAYLIGHT
BEGIN:STANDARD
TZOFFSETFROM:-0400
TZOFFSETTO:-0500
TZNAME:EST
DTSTART:20231105T060000
END:STANDARD
BEGIN:DAYLIGHT
TZOFFSETFROM:-0500
TZOFFSETTO:-0400
TZNAME:EDT
DTSTART:20240310T070000
END:DAYLIGHT
BEGIN:STANDARD
TZOFFSETFROM:-0400
TZOFFSETTO:-0500
TZNAME:EST
DTSTART:20241103T060000
END:STANDARD
BEGIN:DAYLIGHT
TZOFFSETFROM:-0500
TZOFFSETTO:-0400
TZNAME:EDT
DTSTART:20250309T070000
END:DAYLIGHT
BEGIN:STANDARD
TZOFFSETFROM:-0400
TZOFFSETTO:-0500
TZNAME:EST
DTSTART:20251102T060000
END:STANDARD
END:VTIMEZONE
BEGIN:VEVENT
DTSTART;TZID=America/New_York:20240603T080000
DTEND;TZID=America/New_York:20240603T173000
DTSTAMP:20260423T070318
CREATED:20240507T224037Z
LAST-MODIFIED:20240507T224235Z
UID:12513-1717401600-1717435800@vbrn.org
SUMMARY:2024 Northern New England Microbiome Symposium
DESCRIPTION:The University of Vermont’s Microbiome Interest Group is pleased to invite you to the 2024 Northern New England Microbiome Symposium.  This one-day symposium will feature talks on cutting-edge research and applications by national and local speakers. It offers everyone an opportunity to share their work in a community poster session and get to know one another at a microbially-themed social event. \nEvent site
URL:https://vbrn.org/event/2024-northern-new-england-microbiome-symposium/
LOCATION:UVM Davis Center
CATEGORIES:Conference
END:VEVENT
END:VCALENDAR